BEGIN:VCALENDAR
VERSION:2.0
PRODID:-//185.159.123.135//NONSGML kigkonsult.se iCalcreator 2.20//
CALSCALE:GREGORIAN
METHOD:PUBLISH
X-WR-TIMEZONE:UTC
BEGIN:VEVENT
UID:event791@TSV Heinsheim 1911 e.V.
DTSTAMP:20260421T090514Z
CATEGORIES:Abt. Gewichtheben
DESCRIPTION:GW-Heben LL: HG Rastatt - TSV II\nKategorie: Abt. Gewichtheben
 \nICS-Link: https://www.tsv-heinsheim.de/index.php?option=com_jem&view=eve
 nt&id=791:gw-heben-ll-hg-rastatt-tsv-ii\n
DTSTART;VALUE=DATE:20260228
DTEND;VALUE=DATE:20260301
LOCATION:HG Rastatt\,Lützowerstraße 8\,76437 Rastatt
SUMMARY:GW-Heben LL: HG Rastatt - TSV II
URL:https://www.tsv-heinsheim.de/index.php?option=com_jem&view=event&id=791
 :gw-heben-ll-hg-rastatt-tsv-ii
END:VEVENT
END:VCALENDAR
