BEGIN:VCALENDAR
VERSION:2.0
PRODID:-//185.159.123.135//NONSGML kigkonsult.se iCalcreator 2.20//
CALSCALE:GREGORIAN
METHOD:PUBLISH
X-WR-TIMEZONE:UTC
BEGIN:VEVENT
UID:event729@TSV Heinsheim 1911 e.V.
DTSTAMP:20260421T090852Z
CATEGORIES:Abt. Tennis
DESCRIPTION:Tennis Damen 40: TSV - TC RW Waldpark Mannheim 1\nKategorie: Ab
 t. Tennis\nICS-Link: https://www.tsv-heinsheim.de/index.php?option=com_jem
 &view=event&id=729:tennis-damen-40-tsv-tc-rw-waldpark-mannheim-1\n
DTSTART:20250712T140000Z
DTEND:20250712T140000Z
LOCATION:TSV Tennisanlage\,Neckarstraße 1\,74906 Heinsheim
SUMMARY:Tennis Damen 40: TSV - TC RW Waldpark Mannheim 1
URL:https://www.tsv-heinsheim.de/index.php?option=com_jem&view=event&id=729
 :tennis-damen-40-tsv-tc-rw-waldpark-mannheim-1
END:VEVENT
END:VCALENDAR
