BEGIN:VCALENDAR
VERSION:2.0
PRODID:-//185.159.123.135//NONSGML kigkonsult.se iCalcreator 2.20//
CALSCALE:GREGORIAN
METHOD:PUBLISH
X-WR-TIMEZONE:UTC
BEGIN:VEVENT
UID:event665@TSV Heinsheim 1911 e.V.
DTSTAMP:20260421T090515Z
CATEGORIES:Abt. Fußball
DESCRIPTION:Fußball KrL. A2: TSV - SGM Neudenau/​Siglingen\nKategorie: Abt.
  Fußball\nICS-Link: https://www.tsv-heinsheim.de/index.php?option=com_jem&
 view=event&id=665:fussball-krl-a2-tsv-sgm-neudenau-siglingen\n
DTSTART:20250427T150000Z
DTEND:20250427T150000Z
LOCATION:TSV-Sportgelände\,Neckarstraße 1\,74906 Heinsheim
SUMMARY:Fußball KrL. A2: TSV - SGM Neudenau/​Siglingen
URL:https://www.tsv-heinsheim.de/index.php?option=com_jem&view=event&id=665
 :fussball-krl-a2-tsv-sgm-neudenau-siglingen
END:VEVENT
END:VCALENDAR
